BEGIN:VCALENDAR
VERSION:2.0
PRODID:icalendar-ruby
CALSCALE:GREGORIAN
METHOD:PUBLISH
BEGIN:VEVENT
DTSTAMP:20260424T173435Z
UID:10-260498@cranberrybaptist.org
DTSTART:20261007T221500Z
DTEND:20261007T234500Z
CLASS:PUBLIC
CREATED:20260424T123330
DESCRIPTION:
LAST-MODIFIED:20260424T123330
LOCATION:Community Building at Cranberrry Baptist Church
SUMMARY:Team Kid
URL;VALUE=URI:https://www.cranberrybaptist.org/events/team-kid/2026-10-07
ATTACH;FILENAME=541806707_782398234432697_4380335728340111767_n.jpg;FMTTYPE
 =image/jpeg:https://dq5pwpg1q8ru0.cloudfront.net/2025/09/28/19/41/09/7c732
 03d-2be4-4579-927f-1fb41e2b42ee/541806707_782398234432697_4380335728340111
 767_n.jpg
END:VEVENT
END:VCALENDAR
