BEGIN:VCALENDAR
VERSION:2.0
PRODID:icalendar-ruby
CALSCALE:GREGORIAN
METHOD:PUBLISH
BEGIN:VEVENT
DTSTAMP:20260424T124540Z
UID:10-259807@cranberrybaptist.org
DTSTART:20260916T221500Z
DTEND:20260916T234500Z
CLASS:PUBLIC
CREATED:20260424T064822
DESCRIPTION:
LAST-MODIFIED:20260424T064822
LOCATION:Community Building at Cranberrry Baptist Church
SUMMARY:Team Kid
URL;VALUE=URI:https://www.cranberrybaptist.org/events/team-kid/2026-09-16
ATTACH;FILENAME=541806707_782398234432697_4380335728340111767_n.jpg;FMTTYPE
 =image/jpeg:https://dq5pwpg1q8ru0.cloudfront.net/2025/09/28/19/41/09/7c732
 03d-2be4-4579-927f-1fb41e2b42ee/541806707_782398234432697_4380335728340111
 767_n.jpg
END:VEVENT
END:VCALENDAR
